BEGIN:VCALENDAR
VERSION:2.0
CALSCALE:GREGORIAN
PRODID:-//WordPress//RSVPMaker//EN
METHOD:REQUEST
BEGIN:VEVENT
DTSTAMP:20260422T144525Z
UID:E0B2C99D6E66D1EA44A8588C7BC4A016@rsvpmaker.com
SEQUENCE:0
STATUS:CONFIRMED
DTSTART:20241115T220000Z
DTEND:20241116T040000Z
LOCATION:See\: https\://ortegariverclub.net/rsvpmaker/latin-dancing-an
 d-open-grill-night-2024-11-15/
SUMMARY:Latin Dancing Night
DESCRIPTION:Event info\: https\://ortegariverclub.net/rsvpmaker/latin-
 dancing-and-open-grill-night-2024-11-15/
END:VEVENT
END:VCALENDAR