BEGIN:VCALENDAR
VERSION:2.0
CALSCALE:GREGORIAN
PRODID:-//WordPress//RSVPMaker//EN
METHOD:REQUEST
BEGIN:VEVENT
DTSTAMP:20260420T102308Z
UID:E4C60BF7A076969FC058178B44F2F054@rsvpmaker.com
SEQUENCE:0
STATUS:CONFIRMED
DTSTART:20240920T210000Z
DTEND:20240921T030000Z
LOCATION:See\: https\://ortegariverclub.net/rsvpmaker/latin-dancing-an
 d-open-grill-night-2024-09-20/
SUMMARY:Latin Dancing Night
DESCRIPTION:Event info\: https\://ortegariverclub.net/rsvpmaker/latin-
 dancing-and-open-grill-night-2024-09-20/
END:VEVENT
END:VCALENDAR