BEGIN:VCALENDAR
VERSION:2.0
CALSCALE:GREGORIAN
PRODID:-//WordPress//RSVPMaker//EN
METHOD:REQUEST
BEGIN:VEVENT
DTSTAMP:20260422T163137Z
UID:C96742836BFF214C3BB498C11C10EA4D@rsvpmaker.com
SEQUENCE:0
STATUS:CONFIRMED
DTSTART:20240913T213000Z
DTEND:20240913T220000Z
LOCATION:See\: https\://ortegariverclub.net/rsvpmaker/hawaiian-luau-wi
 th-music-2024-09-13/
SUMMARY:Hawaiian Luau
DESCRIPTION:Event info\: https\://ortegariverclub.net/rsvpmaker/hawaii
 an-luau-with-music-2024-09-13/
END:VEVENT
END:VCALENDAR