BEGIN:VCALENDAR
VERSION:2.0
CALSCALE:GREGORIAN
PRODID:-//WordPress//RSVPMaker//EN
METHOD:REQUEST
BEGIN:VEVENT
DTSTAMP:20260423T021653Z
UID:21964698B7DF1CEFA6BEFC89697F5293@rsvpmaker.com
SEQUENCE:0
STATUS:CONFIRMED
DTSTART:20240518T223000Z
DTEND:20240518T230000Z
LOCATION:See\: https\://ortegariverclub.net/rsvpmaker/happy-days-party
 -and-dj-dance-2024-05-18/
SUMMARY:Happy Days Party and DJ Dance
DESCRIPTION:Event info\: https\://ortegariverclub.net/rsvpmaker/happy-
 days-party-and-dj-dance-2024-05-18/
END:VEVENT
END:VCALENDAR