BEGIN:VCALENDAR
VERSION:2.0
CALSCALE:GREGORIAN
PRODID:-//WordPress//RSVPMaker//EN
METHOD:REQUEST
BEGIN:VEVENT
DTSTAMP:20260422T163142Z
UID:3DC55387CB95423475A19DEA9E939B87@rsvpmaker.com
SEQUENCE:0
STATUS:CONFIRMED
DTSTART:20241026T223000Z
DTEND:20241026T233000Z
LOCATION:See\: https\://ortegariverclub.net/rsvpmaker/halloween-dance-
 and-costume-party-2024-10-26/
SUMMARY:Halloween Dance and Costume Party with Classic Edition Band
DESCRIPTION:Event info\: https\://ortegariverclub.net/rsvpmaker/hallow
 een-dance-and-costume-party-2024-10-26/
END:VEVENT
END:VCALENDAR