BEGIN:VCALENDAR
VERSION:2.0
CALSCALE:GREGORIAN
PRODID:-//WordPress//RSVPMaker//EN
METHOD:REQUEST
BEGIN:VEVENT
DTSTAMP:20260419T133227Z
UID:B1BF0038E7A15B5B3DCECF1576AF8863@rsvpmaker.com
SEQUENCE:0
STATUS:CONFIRMED
DTSTART:20250523T210000Z
DTEND:20250523T220000Z
LOCATION:See\: https\://ortegariverclub.net/rsvpmaker/grilling-on-the-
 river-2025-05-23/
SUMMARY:Grilling on the River
DESCRIPTION:Event info\: https\://ortegariverclub.net/rsvpmaker/grilli
 ng-on-the-river-2025-05-23/
END:VEVENT
END:VCALENDAR