BEGIN:VCALENDAR
VERSION:2.0
CALSCALE:GREGORIAN
PRODID:-//WordPress//RSVPMaker//EN
METHOD:REQUEST
BEGIN:VEVENT
DTSTAMP:20260423T110333Z
UID:D5EEEB68551631BCEACDEEB4E2A9D3C1@rsvpmaker.com
SEQUENCE:0
STATUS:CONFIRMED
DTSTART:20231110T220000Z
DTEND:20231110T230000Z
LOCATION:See\: https\://ortegariverclub.net/rsvpmaker/grill-night-with
 -music-and-dancing-and-lee-high-school-reunion/
SUMMARY:Grill Night with Music and Dancing and Lee High School Reunion
DESCRIPTION:Event info\: https\://ortegariverclub.net/rsvpmaker/grill-
 night-with-music-and-dancing-and-lee-high-school-reunion/
END:VEVENT
END:VCALENDAR