BEGIN:VCALENDAR
VERSION:2.0
CALSCALE:GREGORIAN
PRODID:-//WordPress//RSVPMaker//EN
METHOD:REQUEST
BEGIN:VEVENT
DTSTAMP:20260420T122844Z
UID:5000AB6D8DA146CB7430BA7F99E39E60@rsvpmaker.com
SEQUENCE:0
STATUS:CONFIRMED
DTSTART:20250411T210000Z
DTEND:20250411T220000Z
LOCATION:See\: https\://ortegariverclub.net/rsvpmaker/grill-night-musi
 c-and-dancing-2025-04-11/
SUMMARY:Grill Night Music and Dancing
DESCRIPTION:Event info\: https\://ortegariverclub.net/rsvpmaker/grill-
 night-music-and-dancing-2025-04-11/
END:VEVENT
END:VCALENDAR