BEGIN:VCALENDAR
VERSION:2.0
CALSCALE:GREGORIAN
PRODID:-//WordPress//RSVPMaker//EN
METHOD:REQUEST
BEGIN:VEVENT
DTSTAMP:20260420T173436Z
UID:87EC54EF27E93908A8397EB3A6BBB45B@rsvpmaker.com
SEQUENCE:0
STATUS:CONFIRMED
DTSTART:20250110T220000Z
DTEND:20250110T230000Z
LOCATION:See\: https\://ortegariverclub.net/rsvpmaker/grill-night-musi
 c-and-dancing-2025-01-10/
SUMMARY:Grill Night Music and Dancing
DESCRIPTION:Event info\: https\://ortegariverclub.net/rsvpmaker/grill-
 night-music-and-dancing-2025-01-10/
END:VEVENT
END:VCALENDAR