BEGIN:VCALENDAR
VERSION:2.0
CALSCALE:GREGORIAN
PRODID:-//WordPress//RSVPMaker//EN
METHOD:REQUEST
BEGIN:VEVENT
DTSTAMP:20260422T125043Z
UID:4B1905CFF5BC8B47AE1C9D92E2C759DF@rsvpmaker.com
SEQUENCE:0
STATUS:CONFIRMED
DTSTART:20241108T220000Z
DTEND:20241108T230000Z
LOCATION:See\: https\://ortegariverclub.net/rsvpmaker/grill-night-and-
 chris-thomas-dance-lesson-2024-11-08/
SUMMARY:Chris Thomas Dance Lesson and Grill Night
DESCRIPTION:Event info\: https\://ortegariverclub.net/rsvpmaker/grill-
 night-and-chris-thomas-dance-lesson-2024-11-08/
END:VEVENT
END:VCALENDAR