BEGIN:VCALENDAR
VERSION:2.0
CALSCALE:GREGORIAN
PRODID:-//WordPress//RSVPMaker//EN
METHOD:REQUEST
BEGIN:VEVENT
DTSTAMP:20260422T134713Z
UID:7681530FD4955629B6260D4DFB682E5A@rsvpmaker.com
SEQUENCE:0
STATUS:CONFIRMED
DTSTART:20261111T220000Z
DTEND:20261111T230000Z
LOCATION:See\: https\://ortegariverclub.net/rsvpmaker/general-meeting-
 and-dinner-at-the-river-and-line-dancing-2026-11-11/
SUMMARY:General Meeting and Dinner at the River and Line Dancing
DESCRIPTION:Event info\: https\://ortegariverclub.net/rsvpmaker/genera
 l-meeting-and-dinner-at-the-river-and-line-dancing-2026-11-11/
END:VEVENT
END:VCALENDAR