BEGIN:VCALENDAR
VERSION:2.0
CALSCALE:GREGORIAN
PRODID:-//WordPress//RSVPMaker//EN
METHOD:REQUEST
BEGIN:VEVENT
DTSTAMP:20260422T135418Z
UID:B05596AF74C76D3E1D54E797A8A2E688@rsvpmaker.com
SEQUENCE:0
STATUS:CONFIRMED
DTSTART:20261014T210000Z
DTEND:20261014T220000Z
LOCATION:See\: https\://ortegariverclub.net/rsvpmaker/general-meeting-
 and-dinner-at-the-river-and-line-dancing-2026-10-14/
SUMMARY:General Meeting and Dinner at the River and Line Dancing
DESCRIPTION:Event info\: https\://ortegariverclub.net/rsvpmaker/genera
 l-meeting-and-dinner-at-the-river-and-line-dancing-2026-10-14/
END:VEVENT
END:VCALENDAR