BEGIN:VCALENDAR
VERSION:2.0
CALSCALE:GREGORIAN
PRODID:-//WordPress//RSVPMaker//EN
METHOD:REQUEST
BEGIN:VEVENT
DTSTAMP:20260422T135032Z
UID:9451DEF51DE888A8D6351DCAEB2A0E49@rsvpmaker.com
SEQUENCE:0
STATUS:CONFIRMED
DTSTART:20260708T210000Z
DTEND:20260708T220000Z
LOCATION:See\: https\://ortegariverclub.net/rsvpmaker/general-meeting-
 and-dinner-at-the-river-and-line-dancing-2026-07-08/
SUMMARY:General Meeting and Dinner at the River and Line Dancing
DESCRIPTION:Event info\: https\://ortegariverclub.net/rsvpmaker/genera
 l-meeting-and-dinner-at-the-river-and-line-dancing-2026-07-08/
END:VEVENT
END:VCALENDAR