BEGIN:VCALENDAR
VERSION:2.0
CALSCALE:GREGORIAN
PRODID:-//WordPress//RSVPMaker//EN
METHOD:REQUEST
BEGIN:VEVENT
DTSTAMP:20260422T135145Z
UID:EC01A34F7FC3B03448CC52F2A89D52E8@rsvpmaker.com
SEQUENCE:0
STATUS:CONFIRMED
DTSTART:20260610T210000Z
DTEND:20260610T220000Z
LOCATION:See\: https\://ortegariverclub.net/rsvpmaker/general-meeting-
 and-dinner-at-the-river-and-line-dancing-2026-06-10/
SUMMARY:General Meeting and Dinner at the River and Line Dancing
DESCRIPTION:Event info\: https\://ortegariverclub.net/rsvpmaker/genera
 l-meeting-and-dinner-at-the-river-and-line-dancing-2026-06-10/
END:VEVENT
END:VCALENDAR