BEGIN:VCALENDAR
VERSION:2.0
CALSCALE:GREGORIAN
PRODID:-//WordPress//RSVPMaker//EN
METHOD:REQUEST
BEGIN:VEVENT
DTSTAMP:20260422T135335Z
UID:AC02166AD1E62E310DC1A89E2EC24CE7@rsvpmaker.com
SEQUENCE:0
STATUS:CONFIRMED
DTSTART:20260408T210000Z
DTEND:20260408T220000Z
LOCATION:See\: https\://ortegariverclub.net/rsvpmaker/general-meeting-
 and-dinner-at-the-river-and-line-dancing-2026-04-08/
SUMMARY:General Meeting and Dinner at the River and Line Dancing
DESCRIPTION:Event info\: https\://ortegariverclub.net/rsvpmaker/genera
 l-meeting-and-dinner-at-the-river-and-line-dancing-2026-04-08/
END:VEVENT
END:VCALENDAR