BEGIN:VCALENDAR
VERSION:2.0
CALSCALE:GREGORIAN
PRODID:-//WordPress//RSVPMaker//EN
METHOD:REQUEST
BEGIN:VEVENT
DTSTAMP:20260422T135145Z
UID:21BD61BDD9D7BA7B0F5C6B806EC01262@rsvpmaker.com
SEQUENCE:0
STATUS:CONFIRMED
DTSTART:20260311T210000Z
DTEND:20260311T220000Z
LOCATION:See\: https\://ortegariverclub.net/rsvpmaker/general-meeting-
 and-dinner-at-the-river-and-line-dancing-2026-03-11/
SUMMARY:General Meeting and Dinner at the River and Line Dancing
DESCRIPTION:Event info\: https\://ortegariverclub.net/rsvpmaker/genera
 l-meeting-and-dinner-at-the-river-and-line-dancing-2026-03-11/
END:VEVENT
END:VCALENDAR