BEGIN:VCALENDAR
VERSION:2.0
CALSCALE:GREGORIAN
PRODID:-//WordPress//RSVPMaker//EN
METHOD:REQUEST
BEGIN:VEVENT
DTSTAMP:20260420T142106Z
UID:B225F92ACE98BB942488B1996B2D6C27@rsvpmaker.com
SEQUENCE:0
STATUS:CONFIRMED
DTSTART:20250312T210000Z
DTEND:20250312T220000Z
LOCATION:See\: https\://ortegariverclub.net/rsvpmaker/general-meeting-
 and-dinner-at-the-river-and-line-dancing-2025-03-12/
SUMMARY:General Meeting and Dinner at the River and Line Dancing
DESCRIPTION:Event info\: https\://ortegariverclub.net/rsvpmaker/genera
 l-meeting-and-dinner-at-the-river-and-line-dancing-2025-03-12/
END:VEVENT
END:VCALENDAR