BEGIN:VCALENDAR
VERSION:2.0
CALSCALE:GREGORIAN
PRODID:-//WordPress//RSVPMaker//EN
METHOD:REQUEST
BEGIN:VEVENT
DTSTAMP:20260420T071314Z
UID:006BFAE3A90BAB38E29382170867E962@rsvpmaker.com
SEQUENCE:0
STATUS:CONFIRMED
DTSTART:20200724T210000Z
DTEND:20200724T220000Z
LOCATION:See\: https\://ortegariverclub.net/rsvpmaker/friday-open-gril
 l-music-by-first-coast-shag-2020-07-24/
SUMMARY:Friday Open Grill Music by First Coast Shag
DESCRIPTION:Event info\: https\://ortegariverclub.net/rsvpmaker/friday
 -open-grill-music-by-first-coast-shag-2020-07-24/
END:VEVENT
END:VCALENDAR