BEGIN:VCALENDAR
VERSION:2.0
CALSCALE:GREGORIAN
PRODID:-//WordPress//RSVPMaker//EN
METHOD:REQUEST
BEGIN:VEVENT
DTSTAMP:20260420T071412Z
UID:8E0251B8F27DD86E04C9049A1EEDA4A3@rsvpmaker.com
SEQUENCE:0
STATUS:CONFIRMED
DTSTART:20200522T210000Z
DTEND:20200522T220000Z
LOCATION:See\: https\://ortegariverclub.net/rsvpmaker/friday-open-gril
 l-music-by-first-coast-shag-2020-05-22/
SUMMARY:EVENT CANCELED
DESCRIPTION:Event info\: https\://ortegariverclub.net/rsvpmaker/friday
 -open-grill-music-by-first-coast-shag-2020-05-22/
END:VEVENT
END:VCALENDAR