BEGIN:VCALENDAR
VERSION:2.0
CALSCALE:GREGORIAN
PRODID:-//WordPress//RSVPMaker//EN
METHOD:REQUEST
BEGIN:VEVENT
DTSTAMP:20260420T224416Z
UID:8F48863757FE83CA146CBF93E37B1AB7@rsvpmaker.com
SEQUENCE:0
STATUS:CONFIRMED
DTSTART:20200214T220000Z
DTEND:20200214T230000Z
LOCATION:See\: https\://ortegariverclub.net/rsvpmaker/friday-open-gril
 l-2020-02-14/
SUMMARY:Friday Open Grill
DESCRIPTION:Event info\: https\://ortegariverclub.net/rsvpmaker/friday
 -open-grill-2020-02-14/
END:VEVENT
END:VCALENDAR