BEGIN:VCALENDAR
VERSION:2.0
CALSCALE:GREGORIAN
PRODID:-//WordPress//RSVPMaker//EN
METHOD:REQUEST
BEGIN:VEVENT
DTSTAMP:20260420T224030Z
UID:18D3284F148B6CB726B412B7059223FF@rsvpmaker.com
SEQUENCE:0
STATUS:CONFIRMED
DTSTART:20200207T220000Z
DTEND:20200207T230000Z
LOCATION:See\: https\://ortegariverclub.net/rsvpmaker/friday-open-gril
 l-2020-02-07/
SUMMARY:Friday Grill Dj Jeff Grand Master D
DESCRIPTION:Event info\: https\://ortegariverclub.net/rsvpmaker/friday
 -open-grill-2020-02-07/
END:VEVENT
END:VCALENDAR