BEGIN:VCALENDAR
VERSION:2.0
CALSCALE:GREGORIAN
PRODID:-//WordPress//RSVPMaker//EN
METHOD:REQUEST
BEGIN:VEVENT
DTSTAMP:20260420T224037Z
UID:085D5D1E61EFFABC440D74AC51B91D87@rsvpmaker.com
SEQUENCE:0
STATUS:CONFIRMED
DTSTART:20200131T220000Z
DTEND:20200131T230000Z
LOCATION:See\: https\://ortegariverclub.net/rsvpmaker/friday-open-gril
 l-2020-01-31/
SUMMARY:Friday Grill  Country Music Two step Lessons
DESCRIPTION:Event info\: https\://ortegariverclub.net/rsvpmaker/friday
 -open-grill-2020-01-31/
END:VEVENT
END:VCALENDAR