BEGIN:VCALENDAR
VERSION:2.0
CALSCALE:GREGORIAN
PRODID:-//WordPress//RSVPMaker//EN
METHOD:REQUEST
BEGIN:VEVENT
DTSTAMP:20260420T224149Z
UID:8BE57C24680317C02843631B253179D8@rsvpmaker.com
SEQUENCE:0
STATUS:CONFIRMED
DTSTART:20200117T220000Z
DTEND:20200117T230000Z
LOCATION:See\: https\://ortegariverclub.net/rsvpmaker/friday-open-gril
 l-2020-01-17/
SUMMARY:Friday  Grill  Featuring Dj. Earl Yoemans
DESCRIPTION:Event info\: https\://ortegariverclub.net/rsvpmaker/friday
 -open-grill-2020-01-17/
END:VEVENT
END:VCALENDAR