BEGIN:VCALENDAR
VERSION:2.0
CALSCALE:GREGORIAN
PRODID:-//WordPress//RSVPMaker//EN
METHOD:REQUEST
BEGIN:VEVENT
DTSTAMP:20260420T223541Z
UID:A7D4C5E52848263151F75565644E7367@rsvpmaker.com
SEQUENCE:0
STATUS:CONFIRMED
DTSTART:20191220T220000Z
DTEND:20191220T230000Z
LOCATION:See\: https\://ortegariverclub.net/rsvpmaker/friday-open-gril
 l-2019-12-20/
SUMMARY:Friday Open Grill
DESCRIPTION:Event info\: https\://ortegariverclub.net/rsvpmaker/friday
 -open-grill-2019-12-20/
END:VEVENT
END:VCALENDAR