BEGIN:VCALENDAR
VERSION:2.0
CALSCALE:GREGORIAN
PRODID:-//WordPress//RSVPMaker//EN
METHOD:REQUEST
BEGIN:VEVENT
DTSTAMP:20260420T224318Z
UID:7BDA457C9196778ECEFD84491EE957BD@rsvpmaker.com
SEQUENCE:0
STATUS:CONFIRMED
DTSTART:20191213T220000Z
DTEND:20191213T230000Z
LOCATION:See\: https\://ortegariverclub.net/rsvpmaker/friday-open-gril
 l-2019-12-13/
SUMMARY:Friday Open Grill
DESCRIPTION:Event info\: https\://ortegariverclub.net/rsvpmaker/friday
 -open-grill-2019-12-13/
END:VEVENT
END:VCALENDAR