BEGIN:VCALENDAR
VERSION:2.0
CALSCALE:GREGORIAN
PRODID:-//WordPress//RSVPMaker//EN
METHOD:REQUEST
BEGIN:VEVENT
DTSTAMP:20260420T173436Z
UID:62E125FDE0037EF78106973D7D91C94E@rsvpmaker.com
SEQUENCE:0
STATUS:CONFIRMED
DTSTART:20250228T220000Z
DTEND:20250228T230000Z
LOCATION:See\: https\://ortegariverclub.net/rsvpmaker/friday-night-is-
 dance-party-night-2025-02-28/
SUMMARY:Friday Night is Dance Party Night Mardi Gras Style
DESCRIPTION:Event info\: https\://ortegariverclub.net/rsvpmaker/friday
 -night-is-dance-party-night-2025-02-28/
END:VEVENT
END:VCALENDAR