BEGIN:VCALENDAR
VERSION:2.0
CALSCALE:GREGORIAN
PRODID:-//WordPress//RSVPMaker//EN
METHOD:REQUEST
BEGIN:VEVENT
DTSTAMP:20260421T090255Z
UID:BFD6AFD4ECEEB6586229FC477D77AB09@rsvpmaker.com
SEQUENCE:0
STATUS:CONFIRMED
DTSTART:20250124T220000Z
DTEND:20250124T230000Z
LOCATION:See\: https\://ortegariverclub.net/rsvpmaker/friday-night-is-
 dance-party-night-2025-01-24/
SUMMARY:Friday Night is Dance Party Night
DESCRIPTION:Event info\: https\://ortegariverclub.net/rsvpmaker/friday
 -night-is-dance-party-night-2025-01-24/
END:VEVENT
END:VCALENDAR