BEGIN:VCALENDAR
VERSION:2.0
CALSCALE:GREGORIAN
PRODID:-//WordPress//RSVPMaker//EN
METHOD:REQUEST
BEGIN:VEVENT
DTSTAMP:20260422T130436Z
UID:A7C1AED2AE6B6CED5C3E83FB7C74D65D@rsvpmaker.com
SEQUENCE:0
STATUS:CONFIRMED
DTSTART:20270108T220000Z
DTEND:20270108T230000Z
LOCATION:See\: https\://ortegariverclub.net/rsvpmaker/free-dog-night-a
 nd-line-dancing-2027-01-08/
SUMMARY:Free Dog Night and Line Dancing
DESCRIPTION:Event info\: https\://ortegariverclub.net/rsvpmaker/free-d
 og-night-and-line-dancing-2027-01-08/
END:VEVENT
END:VCALENDAR