BEGIN:VCALENDAR
VERSION:2.0
CALSCALE:GREGORIAN
PRODID:-//WordPress//RSVPMaker//EN
METHOD:REQUEST
BEGIN:VEVENT
DTSTAMP:20260422T125626Z
UID:AB8E98AC98803725B3E4550F9525E551@rsvpmaker.com
SEQUENCE:0
STATUS:CONFIRMED
DTSTART:20261211T220000Z
DTEND:20261211T230000Z
LOCATION:See\: https\://ortegariverclub.net/rsvpmaker/free-dog-night-a
 nd-line-dancing-2026-12-11/
SUMMARY:Free Dog Night and Line Dancing
DESCRIPTION:Event info\: https\://ortegariverclub.net/rsvpmaker/free-d
 og-night-and-line-dancing-2026-12-11/
END:VEVENT
END:VCALENDAR