BEGIN:VCALENDAR
VERSION:2.0
CALSCALE:GREGORIAN
PRODID:-//WordPress//RSVPMaker//EN
METHOD:REQUEST
BEGIN:VEVENT
DTSTAMP:20260422T130023Z
UID:2831648E9DAC9B4618A0AB63D6A81E64@rsvpmaker.com
SEQUENCE:0
STATUS:CONFIRMED
DTSTART:20261113T220000Z
DTEND:20261113T230000Z
LOCATION:See\: https\://ortegariverclub.net/rsvpmaker/free-dog-night-a
 nd-line-dancing-2026-11-13/
SUMMARY:Free Dog Night and Line Dancing
DESCRIPTION:Event info\: https\://ortegariverclub.net/rsvpmaker/free-d
 og-night-and-line-dancing-2026-11-13/
END:VEVENT
END:VCALENDAR