BEGIN:VCALENDAR
VERSION:2.0
CALSCALE:GREGORIAN
PRODID:-//WordPress//RSVPMaker//EN
METHOD:REQUEST
BEGIN:VEVENT
DTSTAMP:20260422T125957Z
UID:A0B54F42BF035D7F3EE941E0FAE94669@rsvpmaker.com
SEQUENCE:0
STATUS:CONFIRMED
DTSTART:20261009T210000Z
DTEND:20261009T220000Z
LOCATION:See\: https\://ortegariverclub.net/rsvpmaker/free-dog-night-a
 nd-line-dancing-2026-10-09/
SUMMARY:Free Dog Night and Line Dancing
DESCRIPTION:Event info\: https\://ortegariverclub.net/rsvpmaker/free-d
 og-night-and-line-dancing-2026-10-09/
END:VEVENT
END:VCALENDAR