BEGIN:VCALENDAR
VERSION:2.0
CALSCALE:GREGORIAN
PRODID:-//WordPress//RSVPMaker//EN
METHOD:REQUEST
BEGIN:VEVENT
DTSTAMP:20260422T130558Z
UID:22AB54F07AB77A9BFFFD6BBEAE5AC19D@rsvpmaker.com
SEQUENCE:0
STATUS:CONFIRMED
DTSTART:20260814T210000Z
DTEND:20260814T220000Z
LOCATION:See\: https\://ortegariverclub.net/rsvpmaker/free-dog-night-a
 nd-line-dancing-2026-08-14/
SUMMARY:Free Dog Night and Line Dancing
DESCRIPTION:Event info\: https\://ortegariverclub.net/rsvpmaker/free-d
 og-night-and-line-dancing-2026-08-14/
END:VEVENT
END:VCALENDAR