BEGIN:VCALENDAR
VERSION:2.0
CALSCALE:GREGORIAN
PRODID:-//WordPress//RSVPMaker//EN
METHOD:REQUEST
BEGIN:VEVENT
DTSTAMP:20260423T022105Z
UID:BD689C29167187A5B0A27F7BE2C915B5@rsvpmaker.com
SEQUENCE:0
STATUS:CONFIRMED
DTSTART:20240401T230000Z
DTEND:20240402T000000Z
LOCATION:See\: https\://ortegariverclub.net/rsvpmaker/free-basic-first
 -aid-course-for-members-2024-04-01/
SUMMARY:Free Basic First Aid Course for Members
DESCRIPTION:Event info\: https\://ortegariverclub.net/rsvpmaker/free-b
 asic-first-aid-course-for-members-2024-04-01/
END:VEVENT
END:VCALENDAR