BEGIN:VCALENDAR
VERSION:2.0
CALSCALE:GREGORIAN
PRODID:-//WordPress//RSVPMaker//EN
METHOD:REQUEST
BEGIN:VEVENT
DTSTAMP:20260422T145956Z
UID:3BD00B198A4ACDCDD6DE880C3BBC917D@rsvpmaker.com
SEQUENCE:0
STATUS:CONFIRMED
DTSTART:19700101T000001Z
DTEND:19700101T000001Z
LOCATION:See\: https\://ortegariverclub.net/rsvpmaker/form14906/
SUMMARY:Form:14906
DESCRIPTION:Event info\: https\://ortegariverclub.net/rsvpmaker/form14
 906/
END:VEVENT
END:VCALENDAR