BEGIN:VCALENDAR
VERSION:2.0
CALSCALE:GREGORIAN
PRODID:-//WordPress//RSVPMaker//EN
METHOD:REQUEST
BEGIN:VEVENT
DTSTAMP:20260422T165247Z
UID:EE0F002F5B3DD22BD87C23569A6C72A4@rsvpmaker.com
SEQUENCE:0
STATUS:CONFIRMED
DTSTART:19700101T000001Z
DTEND:19700101T000001Z
LOCATION:See\: https\://ortegariverclub.net/rsvpmaker/form14904/
SUMMARY:Form:14904
DESCRIPTION:Event info\: https\://ortegariverclub.net/rsvpmaker/form14
 904/
END:VEVENT
END:VCALENDAR