BEGIN:VCALENDAR
VERSION:2.0
CALSCALE:GREGORIAN
PRODID:-//WordPress//RSVPMaker//EN
METHOD:REQUEST
BEGIN:VEVENT
DTSTAMP:20260421T131300Z
UID:3D4233A54FEBE35FBF7749C3AFFB8E15@rsvpmaker.com
SEQUENCE:0
STATUS:CONFIRMED
DTSTART:19700101T000001Z
DTEND:19700101T000001Z
LOCATION:See\: https\://ortegariverclub.net/rsvpmaker/form14745/
SUMMARY:Form:14745
DESCRIPTION:Event info\: https\://ortegariverclub.net/rsvpmaker/form14
 745/
END:VEVENT
END:VCALENDAR