BEGIN:VCALENDAR
VERSION:2.0
CALSCALE:GREGORIAN
PRODID:-//WordPress//RSVPMaker//EN
METHOD:REQUEST
BEGIN:VEVENT
DTSTAMP:20260422T145430Z
UID:13D7A90018676759A713064BBEC1B25C@rsvpmaker.com
SEQUENCE:0
STATUS:CONFIRMED
DTSTART:19700101T000001Z
DTEND:19700101T000001Z
LOCATION:See\: https\://ortegariverclub.net/rsvpmaker/form14715/
SUMMARY:Form:14715
DESCRIPTION:Event info\: https\://ortegariverclub.net/rsvpmaker/form14
 715/
END:VEVENT
END:VCALENDAR