BEGIN:VCALENDAR
VERSION:2.0
CALSCALE:GREGORIAN
PRODID:-//WordPress//RSVPMaker//EN
METHOD:REQUEST
BEGIN:VEVENT
DTSTAMP:20260422T165909Z
UID:B6090CD636E93A4A4574E97002734900@rsvpmaker.com
SEQUENCE:0
STATUS:CONFIRMED
DTSTART:19700101T000001Z
DTEND:19700101T000001Z
LOCATION:See\: https\://ortegariverclub.net/rsvpmaker/form14586/
SUMMARY:Form:14586
DESCRIPTION:Event info\: https\://ortegariverclub.net/rsvpmaker/form14
 586/
END:VEVENT
END:VCALENDAR