BEGIN:VCALENDAR
VERSION:2.0
CALSCALE:GREGORIAN
PRODID:-//WordPress//RSVPMaker//EN
METHOD:REQUEST
BEGIN:VEVENT
DTSTAMP:20260422T145616Z
UID:2705E8FDE87CD2883E9FC1F00335685F@rsvpmaker.com
SEQUENCE:0
STATUS:CONFIRMED
DTSTART:19700101T000001Z
DTEND:19700101T000001Z
LOCATION:See\: https\://ortegariverclub.net/rsvpmaker/form14573/
SUMMARY:Form:14573
DESCRIPTION:Event info\: https\://ortegariverclub.net/rsvpmaker/form14
 573/
END:VEVENT
END:VCALENDAR