BEGIN:VCALENDAR
VERSION:2.0
CALSCALE:GREGORIAN
PRODID:-//WordPress//RSVPMaker//EN
METHOD:REQUEST
BEGIN:VEVENT
DTSTAMP:20260422T190041Z
UID:0EE8B1EAFADAC937E6E03D8866CEF9BF@rsvpmaker.com
SEQUENCE:0
STATUS:CONFIRMED
DTSTART:19700101T000001Z
DTEND:19700101T000001Z
LOCATION:See\: https\://ortegariverclub.net/rsvpmaker/form14571/
SUMMARY:Form:14571
DESCRIPTION:Event info\: https\://ortegariverclub.net/rsvpmaker/form14
 571/
END:VEVENT
END:VCALENDAR