BEGIN:VCALENDAR
VERSION:2.0
CALSCALE:GREGORIAN
PRODID:-//WordPress//RSVPMaker//EN
METHOD:REQUEST
BEGIN:VEVENT
DTSTAMP:20260422T185852Z
UID:94BD3F4D79C60AF8831740E58A68DD6E@rsvpmaker.com
SEQUENCE:0
STATUS:CONFIRMED
DTSTART:19700101T000001Z
DTEND:19700101T000001Z
LOCATION:See\: https\://ortegariverclub.net/rsvpmaker/form14568/
SUMMARY:Form:14568
DESCRIPTION:Event info\: https\://ortegariverclub.net/rsvpmaker/form14
 568/
END:VEVENT
END:VCALENDAR