BEGIN:VCALENDAR
VERSION:2.0
CALSCALE:GREGORIAN
PRODID:-//WordPress//RSVPMaker//EN
METHOD:REQUEST
BEGIN:VEVENT
DTSTAMP:20260422T165912Z
UID:A598E7D200BF02558D5534839884B7A3@rsvpmaker.com
SEQUENCE:0
STATUS:CONFIRMED
DTSTART:19700101T000001Z
DTEND:19700101T000001Z
LOCATION:See\: https\://ortegariverclub.net/rsvpmaker/form14566/
SUMMARY:Form:14566
DESCRIPTION:Event info\: https\://ortegariverclub.net/rsvpmaker/form14
 566/
END:VEVENT
END:VCALENDAR