BEGIN:VCALENDAR
VERSION:2.0
CALSCALE:GREGORIAN
PRODID:-//WordPress//RSVPMaker//EN
METHOD:REQUEST
BEGIN:VEVENT
DTSTAMP:20260422T191049Z
UID:E2CC88BCC7302F28D93E2D31C511986B@rsvpmaker.com
SEQUENCE:0
STATUS:CONFIRMED
DTSTART:19700101T000001Z
DTEND:19700101T000001Z
LOCATION:See\: https\://ortegariverclub.net/rsvpmaker/form14487/
SUMMARY:Form:14487
DESCRIPTION:Event info\: https\://ortegariverclub.net/rsvpmaker/form14
 487/
END:VEVENT
END:VCALENDAR