BEGIN:VCALENDAR
VERSION:2.0
CALSCALE:GREGORIAN
PRODID:-//WordPress//RSVPMaker//EN
METHOD:REQUEST
BEGIN:VEVENT
DTSTAMP:20260422T210520Z
UID:ABE6F17EE7A1E4775951399035E00841@rsvpmaker.com
SEQUENCE:0
STATUS:CONFIRMED
DTSTART:19700101T000001Z
DTEND:19700101T000001Z
LOCATION:See\: https\://ortegariverclub.net/rsvpmaker/form14486/
SUMMARY:Form:14486
DESCRIPTION:Event info\: https\://ortegariverclub.net/rsvpmaker/form14
 486/
END:VEVENT
END:VCALENDAR