BEGIN:VCALENDAR
VERSION:2.0
CALSCALE:GREGORIAN
PRODID:-//WordPress//RSVPMaker//EN
METHOD:REQUEST
BEGIN:VEVENT
DTSTAMP:20260421T145309Z
UID:8E60CFB63EF8BEDD98F6868C6ACCF1C2@rsvpmaker.com
SEQUENCE:0
STATUS:CONFIRMED
DTSTART:19700101T000001Z
DTEND:19700101T000001Z
LOCATION:See\: https\://ortegariverclub.net/rsvpmaker/form14483/
SUMMARY:Form:14483
DESCRIPTION:Event info\: https\://ortegariverclub.net/rsvpmaker/form14
 483/
END:VEVENT
END:VCALENDAR