BEGIN:VCALENDAR
VERSION:2.0
CALSCALE:GREGORIAN
PRODID:-//WordPress//RSVPMaker//EN
METHOD:REQUEST
BEGIN:VEVENT
DTSTAMP:20260421T163837Z
UID:2D2C18C1AAEAC9FCC028DD14F4C074CE@rsvpmaker.com
SEQUENCE:0
STATUS:CONFIRMED
DTSTART:19700101T000001Z
DTEND:19700101T000001Z
LOCATION:See\: https\://ortegariverclub.net/rsvpmaker/form14482/
SUMMARY:Form:14482
DESCRIPTION:Event info\: https\://ortegariverclub.net/rsvpmaker/form14
 482/
END:VEVENT
END:VCALENDAR