BEGIN:VCALENDAR
VERSION:2.0
CALSCALE:GREGORIAN
PRODID:-//WordPress//RSVPMaker//EN
METHOD:REQUEST
BEGIN:VEVENT
DTSTAMP:20260421T163538Z
UID:C334BA61FE74AA5C2172B40BEAF5BDB1@rsvpmaker.com
SEQUENCE:0
STATUS:CONFIRMED
DTSTART:19700101T000001Z
DTEND:19700101T000001Z
LOCATION:See\: https\://ortegariverclub.net/rsvpmaker/form14481/
SUMMARY:Form:14481
DESCRIPTION:Event info\: https\://ortegariverclub.net/rsvpmaker/form14
 481/
END:VEVENT
END:VCALENDAR