BEGIN:VCALENDAR
VERSION:2.0
CALSCALE:GREGORIAN
PRODID:-//WordPress//RSVPMaker//EN
METHOD:REQUEST
BEGIN:VEVENT
DTSTAMP:20260425T115513Z
UID:1AC4DBD83735534BCEBC28C845DAFCCD@rsvpmaker.com
SEQUENCE:0
STATUS:CONFIRMED
DTSTART:19700101T000001Z
DTEND:19700101T000001Z
LOCATION:See\: https\://ortegariverclub.net/rsvpmaker/form14480/
SUMMARY:Form:14480
DESCRIPTION:Event info\: https\://ortegariverclub.net/rsvpmaker/form14
 480/
END:VEVENT
END:VCALENDAR