BEGIN:VCALENDAR
VERSION:2.0
CALSCALE:GREGORIAN
PRODID:-//WordPress//RSVPMaker//EN
METHOD:REQUEST
BEGIN:VEVENT
DTSTAMP:20260425T102029Z
UID:B91C7142134F116729E1A2F2693350B6@rsvpmaker.com
SEQUENCE:0
STATUS:CONFIRMED
DTSTART:19700101T000001Z
DTEND:19700101T000001Z
LOCATION:See\: https\://ortegariverclub.net/rsvpmaker/form14479/
SUMMARY:Form:14479
DESCRIPTION:Event info\: https\://ortegariverclub.net/rsvpmaker/form14
 479/
END:VEVENT
END:VCALENDAR