BEGIN:VCALENDAR
VERSION:2.0
CALSCALE:GREGORIAN
PRODID:-//WordPress//RSVPMaker//EN
METHOD:REQUEST
BEGIN:VEVENT
DTSTAMP:20260425T102029Z
UID:3D111E37EF301D7036F983B85DE910B0@rsvpmaker.com
SEQUENCE:0
STATUS:CONFIRMED
DTSTART:19700101T000001Z
DTEND:19700101T000001Z
LOCATION:See\: https\://ortegariverclub.net/rsvpmaker/form14478/
SUMMARY:Form:14478
DESCRIPTION:Event info\: https\://ortegariverclub.net/rsvpmaker/form14
 478/
END:VEVENT
END:VCALENDAR